BEGIN:VCALENDAR
VERSION:2.0
PRODID:-//wp-events-plugin.com//6.4.6//EN
TZID:Europe/Rome
X-WR-TIMEZONE:Europe/Rome
BEGIN:VEVENT
UID:0-12@cci.ufficicei.staging.glauco.it
DTSTART;TZID=Europe/Rome:20180224T103000
DTEND;TZID=Europe/Rome:20180224T113000
DTSTAMP:20180222T073034Z
URL:http://cci.ufficicei.staging.glauco.it/events/forum-delle-associazioni
 -familiari/
SUMMARY:Assemblea generale del Forum delle Associazioni Familiari
DESCRIPTION:Sabato 24 febbraio alle ore 10.15 a Roma\, presso la Casa Domus
  Helena (Via Ferruccio\, 25)\, S.Em.za il Card. Gualtiero Bassetti\, Presi
 dente della CEI\, interverrà all’assemblea generale del Forum delle Ass
 ociazioni Familiari.\n\nL’accesso è ad invito.
END:VEVENT
BEGIN:VTIMEZONE
TZID:Europe/Rome
X-LIC-LOCATION:Europe/Rome
BEGIN:STANDARD
DTSTART:20171029T020000
TZOFFSETFROM:+0200
TZOFFSETTO:+0100
TZNAME:CET
END:STANDARD
END:VTIMEZONE
END:VCALENDAR