BEGIN:VCALENDAR
VERSION:2.0
PRODID:-//wp-events-plugin.com//6.4.6//EN
TZID:Europe/Rome
X-WR-TIMEZONE:Europe/Rome
BEGIN:VEVENT
UID:0-16@cci.ufficicei.staging.glauco.it
DTSTART;TZID=Europe/Rome:20180309T183000
DTEND;TZID=Europe/Rome:20180309T223000
DTSTAMP:20180228T123146Z
URL:http://cci.ufficicei.staging.glauco.it/events/celebrazione-eucaristica
 -nella-basilica-s-maria-ausiliatrice/
SUMMARY:Celebrazione Eucaristica e incontro pubblico
DESCRIPTION:Venerdì 9 marzo alle ore 18.30 a Torino\, nella Basilica di Sa
 nta Maria Ausiliatrice\, S.Em.za il Card. Gualtiero Bassetti\,  presieder
 à la Celebrazione Eucaristica nell’ambito delle manifestazioni per il 1
 50° Anniversario della consacrazione della Basilica.\n\nAlle ore 21.00 po
 i\, sempre in Basilica\, ci sarà un incontro pubblico con il Cardinale\, 
 che proporrà una riflessione sul tema “La Chiesa in Italia e il cammino
  proposto da Papa Francesco”.\nMaggiori informazioni sono disponibili su
 l sito www.diocesi.torino.it.
END:VEVENT
BEGIN:VTIMEZONE
TZID:Europe/Rome
X-LIC-LOCATION:Europe/Rome
BEGIN:STANDARD
DTSTART:20171029T020000
TZOFFSETFROM:+0200
TZOFFSETTO:+0100
TZNAME:CET
END:STANDARD
END:VTIMEZONE
END:VCALENDAR